Workbook

Sheet Estimates
B1: Square Root Golf
B3: Estimate, using your knowledge of square numbers and their roots the positive solution for each "hole" to 2 Decimal Places
B5: The Lowest Score Wins!
C7: Sq Root √ | E7: Your Estimate
B8: Hole 1 | C8: 82
B9: Hole 2 | C9: 65
B10: Hole 3 | C10: 43
B11: Hole 4 | C11: 2
B12: Hole 5 | C12: 11
B13: Hole 6 | C13: 39
B14: Hole 7 | C14: 77
B15: Hole 8 | C15: 12
B16: Hole 9 | C16: 139

Sheet REVEAL
A1: Square Root Golf - Answers
B3: Sq Root | D3: Your Estimate | F3: Correct Answer | H3: Difference
A4: Hole 1 | B4: =Estimates!C8 -> 82 | D4: =Estimates!E8 -> 0 | F4: =SQRT(B4) -> 9.0553851 | H4: =ABS(D4-F4) -> 9.0553851 | K4: YOUR SCORE
A5: Hole 2 | B5: =Estimates!C9 -> 65 | D5: =Estimates!E9 -> 0 | F5: =SQRT(B5) -> 8.0622577 | H5: =ABS(D5-F5) -> 8.0622577
A6: Hole 3 | B6: =Estimates!C10 -> 43 | D6: =Estimates!E10 -> 0 | F6: =SQRT(B6) -> 6.5574385 | H6: =ABS(D6-F6) -> 6.5574385
A7: Hole 4 | B7: =Estimates!C11 -> 2 | D7: =Estimates!E11 -> 0 | F7: =SQRT(B7) -> 1.4142136 | H7: =ABS(D7-F7) -> 1.4142136 | K7: =SUM(H4:I12) -> 58.67981
A8: Hole 5 | B8: =Estimates!C12 -> 11 | D8: =Estimates!E12 -> 0 | F8: =SQRT(B8) -> 3.3166248 | H8: =ABS(D8-F8) -> 3.3166248
A9: Hole 6 | B9: =Estimates!C13 -> 39 | D9: =Estimates!E13 -> 0 | F9: =SQRT(B9) -> 6.244998 | H9: =ABS(D9-F9) -> 6.244998
A10: Hole 7 | B10: =Estimates!C14 -> 77 | D10: =Estimates!E14 -> 0 | F10: =SQRT(B10) -> 8.7749644 | H10: =ABS(D10-F10) -> 8.7749644
A11: Hole 8 | B11: =Estimates!C15 -> 12 | D11: =Estimates!E15 -> 0 | F11: =SQRT(B11) -> 3.4641016 | H11: =ABS(D11-F11) -> 3.4641016
A12: Hole 9 | B12: =Estimates!C16 -> 139 | D12: =Estimates!E16 -> 0 | F12: =SQRT(B12) -> 11.789826 | H12: =ABS(D12-F12) -> 11.789826
